BEGIN:VCALENDAR
VERSION:2.0
PRODID:-//Sunshine International Arts - ECPv6.6.1//NONSGML v1.0//EN
CALSCALE:GREGORIAN
METHOD:PUBLISH
X-ORIGINAL-URL:https://www.sunshineiarts.co.uk
X-WR-CALDESC:Events for Sunshine International Arts
REFRESH-INTERVAL;VALUE=DURATION:PT1H
X-Robots-Tag:noindex
X-PUBLISHED-TTL:PT1H
BEGIN:VTIMEZONE
TZID:UTC
BEGIN:STANDARD
TZOFFSETFROM:+0000
TZOFFSETTO:+0000
TZNAME:UTC
DTSTART:20200101T000000
END:STANDARD
END:VTIMEZONE
BEGIN:VEVENT
DTSTART;TZID=UTC:20200805T080000
DTEND;TZID=UTC:20200805T180000
DTSTAMP:20260423T100640
CREATED:20200717T200756Z
LAST-MODIFIED:20200804T210731Z
UID:10336-1596614400-1596650400@www.sunshineiarts.co.uk
SUMMARY:#siasummer20nhc Ole time carnival Trinidad and Tobago
DESCRIPTION:Ole time carnival Trinidad and Tobago  \nhttps://www.youtube.com/watch?v=Owvlto0GoEo \n \n  \nList of Trinidad and Tobago Carnival character costumes\, Click here \n  \n  \nBlue Devil 2020 Nelson Island \n  \nTNA Brief History of Carnival Celebrations in the Caribbean \nOnce Christmas season is officially over in the Caribbean\, it’s time to dig out your dancing shoes and start thinking about Carnival\, the hedonistic celebration that culminates on Fat Tuesday\, or Mardi Gras\, the day before Lent begins. Click Here  \n  \n  \n  \n  \n  \n 
URL:https://www.sunshineiarts.co.uk/event/comingsoon-siasummer20nhc-ole-time-carnival-trinidad-and-tobago/
LOCATION:CAFE\, STUDIO 5 209A\, COLDHABOUR LANE\, LONDON\, SW9 8RU\, United Kingdom
CATEGORIES:Events
ATTACH;FMTTYPE=image/jpeg:https://www.sunshineiarts.co.uk/wp-content/uploads/2020/07/IMG_8934-2.jpeg
GEO:51.465625;-0.102397
X-APPLE-STRUCTURED-LOCATION;VALUE=URI;X-ADDRESS=CAFE STUDIO 5 209A COLDHABOUR LANE LONDON SW9 8RU United Kingdom;X-APPLE-RADIUS=500;X-TITLE=STUDIO 5 209A\, COLDHABOUR LANE:geo:-0.102397,51.465625
END:VEVENT
BEGIN:VEVENT
DTSTART;TZID=UTC:20200805T120000
DTEND;TZID=UTC:20200805T170000
DTSTAMP:20260423T100640
CREATED:20200804T211019Z
LAST-MODIFIED:20200804T211232Z
UID:10551-1596628800-1596646800@www.sunshineiarts.co.uk
SUMMARY:A wide variety of costumes (called "mas")
DESCRIPTION:A wide variety of costumes (called “mas”) depicting traditional Trinidadian Carnival characters are seen throughout the Trinidad and Tobago Carnival. \nFull List of costume  \nTrinidad Carnival combines bacchanalian celebration with spontaneous street theatre\, in an atmosphere of fantasy and “freeness”.
URL:https://www.sunshineiarts.co.uk/event/a-wide-variety-of-costumes-called-mas/
LOCATION:CAFE\, STUDIO 5 209A\, COLDHABOUR LANE\, LONDON\, SW9 8RU\, United Kingdom
CATEGORIES:Events
GEO:51.465625;-0.102397
X-APPLE-STRUCTURED-LOCATION;VALUE=URI;X-ADDRESS=CAFE STUDIO 5 209A COLDHABOUR LANE LONDON SW9 8RU United Kingdom;X-APPLE-RADIUS=500;X-TITLE=STUDIO 5 209A\, COLDHABOUR LANE:geo:-0.102397,51.465625
END:VEVENT
BEGIN:VEVENT
DTSTART;TZID=UTC:20200805T130000
DTEND;TZID=UTC:20200805T170000
DTSTAMP:20260423T100641
CREATED:20200720T134056Z
LAST-MODIFIED:20200725T203256Z
UID:10419-1596632400-1596646800@www.sunshineiarts.co.uk
SUMMARY:Lincoln Rahamut #NHCpioneer #siasummer20nhc
DESCRIPTION:When I came to London I always remember Lincoln was one of the few mas men who came and complemented my work at Splash ( The large costume competition at NHC ) over the year we became friends and he made most of my recent structure and wire heiresses and backpacks – he was alway a soft spoken man and very pleasant- most of all a talented mas man -Ray  \nLincoln was a pioneer in the development of costume designing at Notting Hill Carnival. In 1992 Lincoln launched Masquerade 2000 and changed the concept of carnival costumes at Notting Hill Carnival\,
URL:https://www.sunshineiarts.co.uk/event/lincoln-rahamut-nhcpioneer-siasummer20nhc/
LOCATION:CAFE\, STUDIO 5 209A\, COLDHABOUR LANE\, LONDON\, SW9 8RU\, United Kingdom
CATEGORIES:Events
ATTACH;FMTTYPE=image/jpeg:https://www.sunshineiarts.co.uk/wp-content/uploads/2020/07/UKCCA-photo-credit-.jpg
GEO:51.465625;-0.102397
X-APPLE-STRUCTURED-LOCATION;VALUE=URI;X-ADDRESS=CAFE STUDIO 5 209A COLDHABOUR LANE LONDON SW9 8RU United Kingdom;X-APPLE-RADIUS=500;X-TITLE=STUDIO 5 209A\, COLDHABOUR LANE:geo:-0.102397,51.465625
END:VEVENT
END:VCALENDAR