BEGIN:VCALENDAR
VERSION:2.0
PRODID:-//Sunshine International Arts - ECPv6.6.1//NONSGML v1.0//EN
CALSCALE:GREGORIAN
METHOD:PUBLISH
X-ORIGINAL-URL:https://www.sunshineiarts.co.uk
X-WR-CALDESC:Events for Sunshine International Arts
REFRESH-INTERVAL;VALUE=DURATION:PT1H
X-Robots-Tag:noindex
X-PUBLISHED-TTL:PT1H
BEGIN:VTIMEZONE
TZID:UTC
BEGIN:STANDARD
TZOFFSETFROM:+0000
TZOFFSETTO:+0000
TZNAME:UTC
DTSTART:20200101T000000
END:STANDARD
END:VTIMEZONE
BEGIN:VEVENT
DTSTART;TZID=UTC:20200814T080000
DTEND;TZID=UTC:20200814T170000
DTSTAMP:20260425T103408
CREATED:20200720T123308Z
LAST-MODIFIED:20200813T202350Z
UID:10382-1597392000-1597424400@www.sunshineiarts.co.uk
SUMMARY:MULANA ‘the art of people’  2001-2020 #siasummer20nhc 
DESCRIPTION:MULANA ‘the art of people’  2001-2020 #siasummer20nhc Click Here  \n“During part of this trip to India I visited the village my forefathers come from in India – I am five generation Indian\, my family came from a village called Sidhownay village\, Bikhapur\, Fyzabad\, which is nearest city to Lucknow and is the capital city of the Indian state of Uttar Pradesh. \n On my return to the UK I developed Sunshine International Arts (S.i.A)\, a UK based arts charity. After coming to the UK to live I found what I call my “new village” – Loughborough Junction\, Brixton\, London – the home of Sunshine International Arts.   \n 
URL:https://www.sunshineiarts.co.uk/event/mulana-the-art-of-people-2001-2020-siasummer20nhc/
LOCATION:CAFE\, STUDIO 5 209A\, COLDHABOUR LANE\, LONDON\, SW9 8RU\, United Kingdom
CATEGORIES:Events
ATTACH;FMTTYPE=image/jpeg:https://www.sunshineiarts.co.uk/wp-content/uploads/2014/02/mulana-content.jpg
GEO:51.465625;-0.102397
X-APPLE-STRUCTURED-LOCATION;VALUE=URI;X-ADDRESS=CAFE STUDIO 5 209A COLDHABOUR LANE LONDON SW9 8RU United Kingdom;X-APPLE-RADIUS=500;X-TITLE=STUDIO 5 209A\, COLDHABOUR LANE:geo:-0.102397,51.465625
END:VEVENT
BEGIN:VEVENT
DTSTART;TZID=UTC:20200814T080000
DTEND;TZID=UTC:20200814T233000
DTSTAMP:20260425T103408
CREATED:20200720T123626Z
LAST-MODIFIED:20200720T123626Z
UID:10384-1597392000-1597447800@www.sunshineiarts.co.uk
SUMMARY:In memory of the Jahagis
DESCRIPTION:A video presentation outlining the arrival of East Indian Indentured labourers to Trinidad during the period 1845 to 1917. This presentation was done for Indian Arrival Day celebrations at St Augustine South Government Primary School (SASGPS). The background music is in Hindi and is based on Psalms 91: “He that dwelleth in the secret place of the most High shall abide under the shadow of the Almighty. I will say of the LORD\, He is my refuge and my fortress: my God; in him will I trust.” I think the person singing is Anil Kant. \n  \n 
URL:https://www.sunshineiarts.co.uk/event/in-memory-of-the-jahagis/
LOCATION:CAFE\, STUDIO 5 209A\, COLDHABOUR LANE\, LONDON\, SW9 8RU\, United Kingdom
CATEGORIES:Events
GEO:51.465625;-0.102397
X-APPLE-STRUCTURED-LOCATION;VALUE=URI;X-ADDRESS=CAFE STUDIO 5 209A COLDHABOUR LANE LONDON SW9 8RU United Kingdom;X-APPLE-RADIUS=500;X-TITLE=STUDIO 5 209A\, COLDHABOUR LANE:geo:-0.102397,51.465625
END:VEVENT
BEGIN:VEVENT
DTSTART;TZID=UTC:20200814T140000
DTEND;TZID=UTC:20200814T170000
DTSTAMP:20260425T103408
CREATED:20200726T104323Z
LAST-MODIFIED:20200726T104323Z
UID:10519-1597413600-1597424400@www.sunshineiarts.co.uk
SUMMARY:About Liverpool International Carnival 2016
DESCRIPTION:Ray Mahabir talks about Brouhaha and about Liverpool International Carnival 2016. \n 
URL:https://www.sunshineiarts.co.uk/event/about-liverpool-international-carnival-2016/
LOCATION:CAFE\, STUDIO 5 209A\, COLDHABOUR LANE\, LONDON\, SW9 8RU\, United Kingdom
CATEGORIES:Events
GEO:51.465625;-0.102397
X-APPLE-STRUCTURED-LOCATION;VALUE=URI;X-ADDRESS=CAFE STUDIO 5 209A COLDHABOUR LANE LONDON SW9 8RU United Kingdom;X-APPLE-RADIUS=500;X-TITLE=STUDIO 5 209A\, COLDHABOUR LANE:geo:-0.102397,51.465625
END:VEVENT
END:VCALENDAR