BEGIN:VCALENDAR
VERSION:2.0
PRODID:-//Sunshine International Arts - ECPv6.6.1//NONSGML v1.0//EN
CALSCALE:GREGORIAN
METHOD:PUBLISH
X-ORIGINAL-URL:https://www.sunshineiarts.co.uk
X-WR-CALDESC:Events for Sunshine International Arts
REFRESH-INTERVAL;VALUE=DURATION:PT1H
X-Robots-Tag:noindex
X-PUBLISHED-TTL:PT1H
BEGIN:VTIMEZONE
TZID:UTC
BEGIN:STANDARD
TZOFFSETFROM:+0000
TZOFFSETTO:+0000
TZNAME:UTC
DTSTART:20200101T000000
END:STANDARD
END:VTIMEZONE
BEGIN:VEVENT
DTSTART;TZID=UTC:20200815T080000
DTEND;TZID=UTC:20200815T170000
DTSTAMP:20260423T100616
CREATED:20200720T123901Z
LAST-MODIFIED:20200813T203522Z
UID:10386-1597478400-1597510800@www.sunshineiarts.co.uk
SUMMARY:International Slavery Museum\, Sailor Mas costume 2007 #siasummer20nhc
DESCRIPTION:International Slavery Museum\, Art Commission Brief – Sailor Mas costume 2007 \n#siasummer20nhc  \nConcept for the Sailor Mas costume (Fancy Sailor) Ray Mahabir- February 2007 Perhaps the most visual manifestation of cultural transformation is Carnival – a complex merging of European religious festivities within Latin America with   elements of African festival. Trinidad is the cradle of carnival but the festival has been transported across the Caribbean\, North and South America and to Europe. \nNotting Hill Carnival in London\, established by Claudia Jones\, is the main carnival in Britain\, celebrated by black and white. Other carnivals take place in cities across the country. Click Here 
URL:https://www.sunshineiarts.co.uk/event/international-slavery-museum-art-commission-brief-sailor-mas-costume-2007-comingsoon-siasummer20nhc/
LOCATION:CAFE\, STUDIO 5 209A\, COLDHABOUR LANE\, LONDON\, SW9 8RU\, United Kingdom
CATEGORIES:Events
ATTACH;FMTTYPE=image/jpeg:https://www.sunshineiarts.co.uk/wp-content/uploads/2020/07/Joseph-Johnson-Sailor-1815.jpeg
GEO:51.465625;-0.102397
X-APPLE-STRUCTURED-LOCATION;VALUE=URI;X-ADDRESS=CAFE STUDIO 5 209A COLDHABOUR LANE LONDON SW9 8RU United Kingdom;X-APPLE-RADIUS=500;X-TITLE=STUDIO 5 209A\, COLDHABOUR LANE:geo:-0.102397,51.465625
END:VEVENT
BEGIN:VEVENT
DTSTART;TZID=UTC:20200815T120000
DTEND;TZID=UTC:20200815T170000
DTSTAMP:20260423T100616
CREATED:20200720T124210Z
LAST-MODIFIED:20200909T102926Z
UID:10388-1597492800-1597510800@www.sunshineiarts.co.uk
SUMMARY:Neil Macey from ‘De hill’ to Hackney  #siasummer20nhc 
DESCRIPTION:#siasummer20nhc  \n“All the youth in the neighbourhood used to play mas with that band so it was like one big family. In my neighbourhood there were lots of steel bands. We had Tokyo\, Fascinators\, Hill 60\, and City Symphony” Neil Macey  \nPhoto Neils dad in Sailor mas Click Here 
URL:https://www.sunshineiarts.co.uk/event/neil-macey-from-de-hill-to-hackney-comingsoon-siasummer20nhc/2020-08-15/
LOCATION:CAFE\, STUDIO 5 209A\, COLDHABOUR LANE\, LONDON\, SW9 8RU\, United Kingdom
CATEGORIES:Events
ATTACH;FMTTYPE=image/jpeg:https://www.sunshineiarts.co.uk/wp-content/uploads/2020/07/Neil-dad-in-Sailor-costume-.jpg
GEO:51.465625;-0.102397
X-APPLE-STRUCTURED-LOCATION;VALUE=URI;X-ADDRESS=CAFE STUDIO 5 209A COLDHABOUR LANE LONDON SW9 8RU United Kingdom;X-APPLE-RADIUS=500;X-TITLE=STUDIO 5 209A\, COLDHABOUR LANE:geo:-0.102397,51.465625
END:VEVENT
BEGIN:VEVENT
DTSTART;TZID=UTC:20200815T143000
DTEND;TZID=UTC:20200815T170000
DTSTAMP:20260423T100616
CREATED:20200720T124549Z
LAST-MODIFIED:20200720T194418Z
UID:10392-1597501800-1597510800@www.sunshineiarts.co.uk
SUMMARY:Minshall... A Ship of Fools 2003 
DESCRIPTION:Minshall A Ship of Fools 2003  \nPeter Minshall’s 2003 Carnival presentation\, “A Ship of Fools”\, has tremendous creative material to choose from the present goings-on in this so-called independent republic with all the brouhaha about the apparent newspaper exposure of a secret Muslim sect with a “lab” of supposed biological and chemical weapons of war\, ready to attack American and British capital investments here as well as all their personnel and private property\, if Muslims are provoked by an attack on Iraq. \n#siasummer20nhc \n 
URL:https://www.sunshineiarts.co.uk/event/minshall-a-ship-of-fools-2003/
LOCATION:CAFE\, STUDIO 5 209A\, COLDHABOUR LANE\, LONDON\, SW9 8RU\, United Kingdom
CATEGORIES:Events
ATTACH;FMTTYPE=image/jpeg:https://www.sunshineiarts.co.uk/wp-content/uploads/2020/07/Ray-and-friend-Roger-Trinidad-Minsall-mas-Ship-of-Fools-.jpeg
GEO:51.465625;-0.102397
X-APPLE-STRUCTURED-LOCATION;VALUE=URI;X-ADDRESS=CAFE STUDIO 5 209A COLDHABOUR LANE LONDON SW9 8RU United Kingdom;X-APPLE-RADIUS=500;X-TITLE=STUDIO 5 209A\, COLDHABOUR LANE:geo:-0.102397,51.465625
END:VEVENT
END:VCALENDAR