BEGIN:VCALENDAR
VERSION:2.0
PRODID:-//Sunshine International Arts - ECPv6.6.1//NONSGML v1.0//EN
CALSCALE:GREGORIAN
METHOD:PUBLISH
X-WR-CALNAME:Sunshine International Arts
X-ORIGINAL-URL:https://www.sunshineiarts.co.uk
X-WR-CALDESC:Events for Sunshine International Arts
REFRESH-INTERVAL;VALUE=DURATION:PT1H
X-Robots-Tag:noindex
X-PUBLISHED-TTL:PT1H
BEGIN:VTIMEZONE
TZID:UTC
BEGIN:STANDARD
TZOFFSETFROM:+0000
TZOFFSETTO:+0000
TZNAME:UTC
DTSTART:20200101T000000
END:STANDARD
END:VTIMEZONE
BEGIN:VEVENT
DTSTART;TZID=UTC:20200817T080000
DTEND;TZID=UTC:20200817T170000
DTSTAMP:20260423T100028
CREATED:20200717T193528Z
LAST-MODIFIED:20200720T115636Z
UID:10333-1597651200-1597683600@www.sunshineiarts.co.uk
SUMMARY:Sunshine's NHC 2020 Statement
DESCRIPTION:Sunshine’s NHC 2020 Statement\n\n\n\n\n\n\n\n\n\n\n\n\n\n\n\n\n\n\n\n\n\n\n\n\n\n\nFollowing the news that Notting Hill Carnival 2020 has been officially cancelled\, we wanted to take the opportunity to get in touch and tell you about our plans.\nFirst\, a word from S.i.A’s Director\, Ray Mahabir: \n“Notting Hill Carnival is a time to rejoice and celebrate. After 23 years of involvement as a family-oriented Mas Band leader\, I am saddened that my members are unable to experience this annual festivity. More than this\, for most of my members this is the one time of the year that they can come together to celebrate the cultural roots of their forefathers\, and the heritage that they belong to. \n  \nI feel for my members\, as the carnival we create is down to each person’s love and passion for the artform. But we can all agree that lives come first. S.i.A must take into consideration the well-being of our members and their loved ones. \n  \nWith this I know that the true meaning of community and carnival culture will live on and will ALWAYS be there! \nSee you all on the road in 2021 \n…aH sea of …HopE… LOVE…LIFE…de silver lining…” \n  \nRay Mahabir – Sunshine International Arts
URL:https://www.sunshineiarts.co.uk/event/sunshines-nhc-2020-statement-2020-08-17/2020-08-17/
LOCATION:CAFE\, STUDIO 5 209A\, COLDHABOUR LANE\, LONDON\, SW9 8RU\, United Kingdom
CATEGORIES:Events
ATTACH;FMTTYPE=image/jpeg:https://www.sunshineiarts.co.uk/wp-content/uploads/2019/06/86F5E4E6-5845-49AA-B9EB-C3550D1EAC4F.jpg
GEO:51.465625;-0.102397
X-APPLE-STRUCTURED-LOCATION;VALUE=URI;X-ADDRESS=CAFE STUDIO 5 209A COLDHABOUR LANE LONDON SW9 8RU United Kingdom;X-APPLE-RADIUS=500;X-TITLE=STUDIO 5 209A\, COLDHABOUR LANE:geo:-0.102397,51.465625
END:VEVENT
BEGIN:VEVENT
DTSTART;TZID=UTC:20200817T130000
DTEND;TZID=UTC:20200817T170000
DTSTAMP:20260423T100028
CREATED:20200720T134528Z
LAST-MODIFIED:20200720T193309Z
UID:10422-1597669200-1597683600@www.sunshineiarts.co.uk
SUMMARY:Beeraahaar Sweet Combination #NHCpioneer #siasummer20nhc
DESCRIPTION:  \nDavid and Christina is always fun to be involved with we have work alone side them for many years and lots of projects. \n#siasummer20nhc#siafamilymystory \nHackney carnival pioneers David Grant and Christina Oree\, 83 and 79\, are still going strong.”The idea was to develop a spirit of unity between all different ages\, cultures and backgrounds\, and the youngsters chose the name “sweet combination” to signify the different nationalities in their band.” \nAnother good read -Band Leader – Christina Oree & David Grant
URL:https://www.sunshineiarts.co.uk/event/beeraahaar-sweet-combination-nhcpioneer-siasummer20nhc/
LOCATION:CAFE\, STUDIO 5 209A\, COLDHABOUR LANE\, LONDON\, SW9 8RU\, United Kingdom
CATEGORIES:Events
GEO:51.465625;-0.102397
X-APPLE-STRUCTURED-LOCATION;VALUE=URI;X-ADDRESS=CAFE STUDIO 5 209A COLDHABOUR LANE LONDON SW9 8RU United Kingdom;X-APPLE-RADIUS=500;X-TITLE=STUDIO 5 209A\, COLDHABOUR LANE:geo:-0.102397,51.465625
END:VEVENT
END:VCALENDAR