BEGIN:VCALENDAR
VERSION:2.0
PRODID:-//Sunshine International Arts - ECPv6.6.1//NONSGML v1.0//EN
CALSCALE:GREGORIAN
METHOD:PUBLISH
X-ORIGINAL-URL:https://www.sunshineiarts.co.uk
X-WR-CALDESC:Events for Sunshine International Arts
REFRESH-INTERVAL;VALUE=DURATION:PT1H
X-Robots-Tag:noindex
X-PUBLISHED-TTL:PT1H
BEGIN:VTIMEZONE
TZID:UTC
BEGIN:STANDARD
TZOFFSETFROM:+0000
TZOFFSETTO:+0000
TZNAME:UTC
DTSTART:20200101T000000
END:STANDARD
END:VTIMEZONE
BEGIN:VEVENT
DTSTART;TZID=UTC:20200819T080000
DTEND;TZID=UTC:20200819T170000
DTSTAMP:20260423T100620
CREATED:20200720T132039Z
LAST-MODIFIED:20200817T202503Z
UID:10411-1597824000-1597856400@www.sunshineiarts.co.uk
SUMMARY:What a normal summer looks like for S.i.A #siafamilymystory
DESCRIPTION:What a normal summer looks like for S.i.A  \nWhat S.i.A has been up to over the last 6 months… Click here
URL:https://www.sunshineiarts.co.uk/event/day-1-the-stories-the-people-look-our-for-s-i-a-tell-their-stories-siafamilymystory/
LOCATION:CAFE\, STUDIO 5 209A\, COLDHABOUR LANE\, LONDON\, SW9 8RU\, United Kingdom
CATEGORIES:Events
ATTACH;FMTTYPE=image/png:https://www.sunshineiarts.co.uk/wp-content/uploads/2020/07/Screen-Shot-2020-07-10-at-10.49.07-1.png
GEO:51.465625;-0.102397
X-APPLE-STRUCTURED-LOCATION;VALUE=URI;X-ADDRESS=CAFE STUDIO 5 209A COLDHABOUR LANE LONDON SW9 8RU United Kingdom;X-APPLE-RADIUS=500;X-TITLE=STUDIO 5 209A\, COLDHABOUR LANE:geo:-0.102397,51.465625
END:VEVENT
END:VCALENDAR