BEGIN:VCALENDAR
VERSION:2.0
PRODID:-//Sunshine International Arts - ECPv6.6.1//NONSGML v1.0//EN
CALSCALE:GREGORIAN
METHOD:PUBLISH
X-WR-CALNAME:Sunshine International Arts
X-ORIGINAL-URL:https://www.sunshineiarts.co.uk
X-WR-CALDESC:Events for Sunshine International Arts
REFRESH-INTERVAL;VALUE=DURATION:PT1H
X-Robots-Tag:noindex
X-PUBLISHED-TTL:PT1H
BEGIN:VTIMEZONE
TZID:UTC
BEGIN:STANDARD
TZOFFSETFROM:+0000
TZOFFSETTO:+0000
TZNAME:UTC
DTSTART:20200101T000000
END:STANDARD
END:VTIMEZONE
BEGIN:VEVENT
DTSTART;TZID=UTC:20200822T080000
DTEND;TZID=UTC:20200822T170000
DTSTAMP:20260423T114551
CREATED:20200720T132255Z
LAST-MODIFIED:20200822T195205Z
UID:10413-1598083200-1598115600@www.sunshineiarts.co.uk
SUMMARY:The stories: The people: look our for S.i.A Family telling their stories #siafamilymystory
DESCRIPTION:#comingsoon #siasummer20nhc#siafamilymystory
URL:https://www.sunshineiarts.co.uk/event/day-2-the-stories-the-people-look-our-for-s-i-a-tell-their-stories-siafamilymystory/
LOCATION:CAFE\, STUDIO 5 209A\, COLDHABOUR LANE\, LONDON\, SW9 8RU\, United Kingdom
CATEGORIES:Events
ATTACH;FMTTYPE=image/jpeg:https://www.sunshineiarts.co.uk/wp-content/uploads/2016/09/127C70D5-2EE7-4481-95B9-59C1FD710561-1-1-scaled.jpe
GEO:51.465625;-0.102397
X-APPLE-STRUCTURED-LOCATION;VALUE=URI;X-ADDRESS=CAFE STUDIO 5 209A COLDHABOUR LANE LONDON SW9 8RU United Kingdom;X-APPLE-RADIUS=500;X-TITLE=STUDIO 5 209A\, COLDHABOUR LANE:geo:-0.102397,51.465625
END:VEVENT
END:VCALENDAR