BEGIN:VCALENDAR
VERSION:2.0
PRODID:-//Sunshine International Arts - ECPv6.6.1//NONSGML v1.0//EN
CALSCALE:GREGORIAN
METHOD:PUBLISH
X-ORIGINAL-URL:https://www.sunshineiarts.co.uk
X-WR-CALDESC:Events for Sunshine International Arts
REFRESH-INTERVAL;VALUE=DURATION:PT1H
X-Robots-Tag:noindex
X-PUBLISHED-TTL:PT1H
BEGIN:VTIMEZONE
TZID:UTC
BEGIN:STANDARD
TZOFFSETFROM:+0000
TZOFFSETTO:+0000
TZNAME:UTC
DTSTART:20200101T000000
END:STANDARD
END:VTIMEZONE
BEGIN:VEVENT
DTSTART;TZID=UTC:20200823T073000
DTEND;TZID=UTC:20200823T170000
DTSTAMP:20260423T100631
CREATED:20200725T204058Z
LAST-MODIFIED:20200822T195455Z
UID:10491-1598167800-1598202000@www.sunshineiarts.co.uk
SUMMARY:The birth of a Mas Band -Sunshine International Arts (S.i.A) 2008-2020 NHC
DESCRIPTION:1998- “Well\, A ‘Mas Man’\, That was my new dream and to tell you the truth\, I never thought that it was going to happen. It was not easy to obtain\, but Britain and the diverse cultures of the communities of this place inspired me to work towards that dream\, and I have achieved it.  So do dreams really come true? \n2001- On my return to the UK I developed Sunshine International Arts (S.i.A)\, a UK based arts charity. India gave me the idea for the company and charity motto – “The Art of The People”. After coming to the UK to live I found what I call my “new village” – Loughborough Junction\, Brixton\, London – the home of Sunshine International Arts. \nS.i.A’s vision is to create work that is the haute couture of carnival arts\, which is challenging in its vision and content.  \n#siasummer20nhc #siafamilymystory Click Here  \n 
URL:https://www.sunshineiarts.co.uk/event/the-birth-of-a-mas-band-sunshine-international-arts-s-i-a-2008-2020-nhc/
LOCATION:CAFE\, STUDIO 5 209A\, COLDHABOUR LANE\, LONDON\, SW9 8RU\, United Kingdom
CATEGORIES:Events
GEO:51.465625;-0.102397
X-APPLE-STRUCTURED-LOCATION;VALUE=URI;X-ADDRESS=CAFE STUDIO 5 209A COLDHABOUR LANE LONDON SW9 8RU United Kingdom;X-APPLE-RADIUS=500;X-TITLE=STUDIO 5 209A\, COLDHABOUR LANE:geo:-0.102397,51.465625
END:VEVENT
END:VCALENDAR