BEGIN:VCALENDAR
VERSION:2.0
PRODID:-//Sunshine International Arts - ECPv6.6.1//NONSGML v1.0//EN
CALSCALE:GREGORIAN
METHOD:PUBLISH
X-ORIGINAL-URL:https://www.sunshineiarts.co.uk
X-WR-CALDESC:Events for Sunshine International Arts
REFRESH-INTERVAL;VALUE=DURATION:PT1H
X-Robots-Tag:noindex
X-PUBLISHED-TTL:PT1H
BEGIN:VTIMEZONE
TZID:UTC
BEGIN:STANDARD
TZOFFSETFROM:+0000
TZOFFSETTO:+0000
TZNAME:UTC
DTSTART:20200101T000000
END:STANDARD
END:VTIMEZONE
BEGIN:VEVENT
DTSTART;TZID=UTC:20200826T080000
DTEND;TZID=UTC:20200826T170000
DTSTAMP:20260425T120234
CREATED:20200725T205440Z
LAST-MODIFIED:20200824T194524Z
UID:10504-1598428800-1598461200@www.sunshineiarts.co.uk
SUMMARY:…Dance of Jouvert… AFRICAN spirits   We de people\, of this EARTH 2018
DESCRIPTION:  \nGearing up for Notting Hill Carnival 2018 !!! \n  \nSunshine International Art is giving Carnival Art a platform to highlight humanity’s destruction of the planet. Our Mas Band in 2018 is looking at how our Art can move people to  Rejuvenate\, Reincarnate\, Rebirth our glorious planet. \nhttps://www.sunshineiarts.co.uk/sunshine-update-gearing-up-for-notting-hill-carnival/
URL:https://www.sunshineiarts.co.uk/event/dance-of-jouvert-african-spirits-we-de-people-of-this-earth-2018/
LOCATION:CAFE\, STUDIO 5 209A\, COLDHABOUR LANE\, LONDON\, SW9 8RU\, United Kingdom
GEO:51.465625;-0.102397
X-APPLE-STRUCTURED-LOCATION;VALUE=URI;X-ADDRESS=CAFE STUDIO 5 209A COLDHABOUR LANE LONDON SW9 8RU United Kingdom;X-APPLE-RADIUS=500;X-TITLE=STUDIO 5 209A\, COLDHABOUR LANE:geo:-0.102397,51.465625
END:VEVENT
BEGIN:VEVENT
DTSTART;TZID=UTC:20200826T140000
DTEND;TZID=UTC:20200826T170000
DTSTAMP:20260425T120234
CREATED:20200726T104424Z
LAST-MODIFIED:20200824T194547Z
UID:10521-1598450400-1598461200@www.sunshineiarts.co.uk
SUMMARY:NHC 2018 We On De Road !
DESCRIPTION:NHC 2018 We On De Road ! \nhttps://www.youtube.com/watch?v=820XT_yce_0
URL:https://www.sunshineiarts.co.uk/event/nhc-2018-we-on-de-road/
LOCATION:CAFE\, STUDIO 5 209A\, COLDHABOUR LANE\, LONDON\, SW9 8RU\, United Kingdom
CATEGORIES:Events
GEO:51.465625;-0.102397
X-APPLE-STRUCTURED-LOCATION;VALUE=URI;X-ADDRESS=CAFE STUDIO 5 209A COLDHABOUR LANE LONDON SW9 8RU United Kingdom;X-APPLE-RADIUS=500;X-TITLE=STUDIO 5 209A\, COLDHABOUR LANE:geo:-0.102397,51.465625
END:VEVENT
END:VCALENDAR