BEGIN:VCALENDAR
VERSION:2.0
PRODID:-//Sunshine International Arts - ECPv6.6.1//NONSGML v1.0//EN
CALSCALE:GREGORIAN
METHOD:PUBLISH
X-WR-CALNAME:Sunshine International Arts
X-ORIGINAL-URL:https://www.sunshineiarts.co.uk
X-WR-CALDESC:Events for Sunshine International Arts
REFRESH-INTERVAL;VALUE=DURATION:PT1H
X-Robots-Tag:noindex
X-PUBLISHED-TTL:PT1H
BEGIN:VTIMEZONE
TZID:UTC
BEGIN:STANDARD
TZOFFSETFROM:+0000
TZOFFSETTO:+0000
TZNAME:UTC
DTSTART:20200101T000000
END:STANDARD
END:VTIMEZONE
BEGIN:VEVENT
DTSTART;TZID=UTC:20200803T080000
DTEND;TZID=UTC:20200803T170000
DTSTAMP:20260423T115049
CREATED:20200717T190124Z
LAST-MODIFIED:20200717T190150Z
UID:10327-1596441600-1596474000@www.sunshineiarts.co.uk
SUMMARY:Trinidad was originally called Kairi which is Kalinago for “Land of the Hummingbirds”
DESCRIPTION:KAIRI THE ABORIGINALS \nTrinidad\, once called ‘Kairi’ (or possibly ‘Iere’) was aboriginally inhabited by many groups of Amerindian peoples who populated the Caribbean and South American region. \n#siasummer20nhc #siafamilymystory #delegacysia21beyond  \nhttps://method.moda/gazette/kairi \n  \nPeter Minshall and his costume the Hummingbird performed bySherry-Ann Guy (Coelho) 1974
URL:https://www.sunshineiarts.co.uk/event/trinidad-was-originally-called-kairi-which-is-kalinago-for-land-of-the-hummingbirds/
LOCATION:CAFE\, STUDIO 5 209A\, COLDHABOUR LANE\, LONDON\, SW9 8RU\, United Kingdom
CATEGORIES:Events
ATTACH;FMTTYPE=image/jpeg:https://www.sunshineiarts.co.uk/wp-content/uploads/2020/07/2017-10-12_first-peoples-festival_red-house-port-of-spain_7673.jpg
GEO:51.465625;-0.102397
X-APPLE-STRUCTURED-LOCATION;VALUE=URI;X-ADDRESS=CAFE STUDIO 5 209A COLDHABOUR LANE LONDON SW9 8RU United Kingdom;X-APPLE-RADIUS=500;X-TITLE=STUDIO 5 209A\, COLDHABOUR LANE:geo:-0.102397,51.465625
END:VEVENT
BEGIN:VEVENT
DTSTART;TZID=UTC:20200804T080000
DTEND;TZID=UTC:20200804T170000
DTSTAMP:20260423T115049
CREATED:20200717T172532Z
LAST-MODIFIED:20200905T080354Z
UID:10313-1596528000-1596560400@www.sunshineiarts.co.uk
SUMMARY:1979-2020 look out for de story!! Ray Allan Mahabir
DESCRIPTION:My childhood memories of carnival mas men were Peter Minshall and Wayne Barkley. I was fascinated by both Peter and Waynes’ work\, also other mas men stuck out in my memory. George Bailey\, Ken Morris and Irvin McWilliams to name a few. But Minshall was my idol his work was unique and different and always had a profound story to each of his productions. \n Ray Allan Mahabir  \nMy brothers and sister at a young age. Russel\, Denise\,Ray and David Mahabir
URL:https://www.sunshineiarts.co.uk/event/1979-2020-look-out-for-de-story-ray-allan-mahabir/2020-08-04/
LOCATION:CAFE\, STUDIO 5 209A\, COLDHABOUR LANE\, LONDON\, SW9 8RU\, United Kingdom
CATEGORIES:Events
GEO:51.465625;-0.102397
X-APPLE-STRUCTURED-LOCATION;VALUE=URI;X-ADDRESS=CAFE STUDIO 5 209A COLDHABOUR LANE LONDON SW9 8RU United Kingdom;X-APPLE-RADIUS=500;X-TITLE=STUDIO 5 209A\, COLDHABOUR LANE:geo:-0.102397,51.465625
END:VEVENT
BEGIN:VEVENT
DTSTART;TZID=UTC:20200804T120000
DTEND;TZID=UTC:20200804T190000
DTSTAMP:20260423T115049
CREATED:20200717T181248Z
LAST-MODIFIED:20200803T203833Z
UID:10317-1596542400-1596567600@www.sunshineiarts.co.uk
SUMMARY:MAS – A TECHNICAL DESCRIPTION PRESENTED BY: NICOLE FERDINAND
DESCRIPTION:MAS – A TECHNICAL DESCRIPTION \nPRESENTED BY: NICOLE FERDINAND \nThe mulatress1 and the garden Negro or field slave2 are masquerades which evoke the French tradition of the exchange of roles during the Carnival period. These costumes were later co-opted by the freed slaves (from 1834)….#siasummer20nhc 
URL:https://www.sunshineiarts.co.uk/event/mas-a-technical-description-presented-by-nicole-ferdinand/
LOCATION:CAFE\, STUDIO 5 209A\, COLDHABOUR LANE\, LONDON\, SW9 8RU\, United Kingdom
CATEGORIES:Events
ATTACH;FMTTYPE=image/jpeg:https://www.sunshineiarts.co.uk/wp-content/uploads/2020/07/IMG_8441.jpeg
GEO:51.465625;-0.102397
X-APPLE-STRUCTURED-LOCATION;VALUE=URI;X-ADDRESS=CAFE STUDIO 5 209A COLDHABOUR LANE LONDON SW9 8RU United Kingdom;X-APPLE-RADIUS=500;X-TITLE=STUDIO 5 209A\, COLDHABOUR LANE:geo:-0.102397,51.465625
END:VEVENT
BEGIN:VEVENT
DTSTART;TZID=UTC:20200805T080000
DTEND;TZID=UTC:20200805T180000
DTSTAMP:20260423T115049
CREATED:20200717T200756Z
LAST-MODIFIED:20200804T210731Z
UID:10336-1596614400-1596650400@www.sunshineiarts.co.uk
SUMMARY:#siasummer20nhc Ole time carnival Trinidad and Tobago
DESCRIPTION:Ole time carnival Trinidad and Tobago  \nhttps://www.youtube.com/watch?v=Owvlto0GoEo \n \n  \nList of Trinidad and Tobago Carnival character costumes\, Click here \n  \n  \nBlue Devil 2020 Nelson Island \n  \nTNA Brief History of Carnival Celebrations in the Caribbean \nOnce Christmas season is officially over in the Caribbean\, it’s time to dig out your dancing shoes and start thinking about Carnival\, the hedonistic celebration that culminates on Fat Tuesday\, or Mardi Gras\, the day before Lent begins. Click Here  \n  \n  \n  \n  \n  \n 
URL:https://www.sunshineiarts.co.uk/event/comingsoon-siasummer20nhc-ole-time-carnival-trinidad-and-tobago/
LOCATION:CAFE\, STUDIO 5 209A\, COLDHABOUR LANE\, LONDON\, SW9 8RU\, United Kingdom
CATEGORIES:Events
ATTACH;FMTTYPE=image/jpeg:https://www.sunshineiarts.co.uk/wp-content/uploads/2020/07/IMG_8934-2.jpeg
GEO:51.465625;-0.102397
X-APPLE-STRUCTURED-LOCATION;VALUE=URI;X-ADDRESS=CAFE STUDIO 5 209A COLDHABOUR LANE LONDON SW9 8RU United Kingdom;X-APPLE-RADIUS=500;X-TITLE=STUDIO 5 209A\, COLDHABOUR LANE:geo:-0.102397,51.465625
END:VEVENT
BEGIN:VEVENT
DTSTART;TZID=UTC:20200805T120000
DTEND;TZID=UTC:20200805T170000
DTSTAMP:20260423T115049
CREATED:20200804T211019Z
LAST-MODIFIED:20200804T211232Z
UID:10551-1596628800-1596646800@www.sunshineiarts.co.uk
SUMMARY:A wide variety of costumes (called "mas")
DESCRIPTION:A wide variety of costumes (called “mas”) depicting traditional Trinidadian Carnival characters are seen throughout the Trinidad and Tobago Carnival. \nFull List of costume  \nTrinidad Carnival combines bacchanalian celebration with spontaneous street theatre\, in an atmosphere of fantasy and “freeness”.
URL:https://www.sunshineiarts.co.uk/event/a-wide-variety-of-costumes-called-mas/
LOCATION:CAFE\, STUDIO 5 209A\, COLDHABOUR LANE\, LONDON\, SW9 8RU\, United Kingdom
CATEGORIES:Events
GEO:51.465625;-0.102397
X-APPLE-STRUCTURED-LOCATION;VALUE=URI;X-ADDRESS=CAFE STUDIO 5 209A COLDHABOUR LANE LONDON SW9 8RU United Kingdom;X-APPLE-RADIUS=500;X-TITLE=STUDIO 5 209A\, COLDHABOUR LANE:geo:-0.102397,51.465625
END:VEVENT
BEGIN:VEVENT
DTSTART;TZID=UTC:20200805T130000
DTEND;TZID=UTC:20200805T170000
DTSTAMP:20260423T115049
CREATED:20200720T134056Z
LAST-MODIFIED:20200725T203256Z
UID:10419-1596632400-1596646800@www.sunshineiarts.co.uk
SUMMARY:Lincoln Rahamut #NHCpioneer #siasummer20nhc
DESCRIPTION:When I came to London I always remember Lincoln was one of the few mas men who came and complemented my work at Splash ( The large costume competition at NHC ) over the year we became friends and he made most of my recent structure and wire heiresses and backpacks – he was alway a soft spoken man and very pleasant- most of all a talented mas man -Ray  \nLincoln was a pioneer in the development of costume designing at Notting Hill Carnival. In 1992 Lincoln launched Masquerade 2000 and changed the concept of carnival costumes at Notting Hill Carnival\,
URL:https://www.sunshineiarts.co.uk/event/lincoln-rahamut-nhcpioneer-siasummer20nhc/
LOCATION:CAFE\, STUDIO 5 209A\, COLDHABOUR LANE\, LONDON\, SW9 8RU\, United Kingdom
CATEGORIES:Events
ATTACH;FMTTYPE=image/jpeg:https://www.sunshineiarts.co.uk/wp-content/uploads/2020/07/UKCCA-photo-credit-.jpg
GEO:51.465625;-0.102397
X-APPLE-STRUCTURED-LOCATION;VALUE=URI;X-ADDRESS=CAFE STUDIO 5 209A COLDHABOUR LANE LONDON SW9 8RU United Kingdom;X-APPLE-RADIUS=500;X-TITLE=STUDIO 5 209A\, COLDHABOUR LANE:geo:-0.102397,51.465625
END:VEVENT
BEGIN:VEVENT
DTSTART;TZID=UTC:20200806T080000
DTEND;TZID=UTC:20200806T170000
DTSTAMP:20260423T115049
CREATED:20200718T172435Z
LAST-MODIFIED:20200805T193513Z
UID:10341-1596700800-1596733200@www.sunshineiarts.co.uk
SUMMARY:From Drums to Tamboo Bamboo to Sweet Steel-  The genesis of the steelband By Selwyn Taradath
DESCRIPTION:#siasummer20nhc #CaribbeanHistory #carnivalHstory \nFrom Drums to Tamboo Bamboo to Sweet Steel \nPhoto credit Christine TriniView Gallery \n \nHow Steelpan Started\, as told by pan pioneer Oscar Pile \nVideo courtesy IsDePanInMe \n  \n 
URL:https://www.sunshineiarts.co.uk/event/from-drums-to-tamboo-bamboo-to-sweet-steel-the-genesis-of-the-steelband-by-selwyn-taradath/
LOCATION:CAFE\, STUDIO 5 209A\, COLDHABOUR LANE\, LONDON\, SW9 8RU\, United Kingdom
CATEGORIES:Events
ATTACH;FMTTYPE=image/jpeg:https://www.sunshineiarts.co.uk/wp-content/uploads/2020/07/Tamboo-Bamboo-.jpg
GEO:51.465625;-0.102397
X-APPLE-STRUCTURED-LOCATION;VALUE=URI;X-ADDRESS=CAFE STUDIO 5 209A COLDHABOUR LANE LONDON SW9 8RU United Kingdom;X-APPLE-RADIUS=500;X-TITLE=STUDIO 5 209A\, COLDHABOUR LANE:geo:-0.102397,51.465625
END:VEVENT
BEGIN:VEVENT
DTSTART;TZID=UTC:20200806T130000
DTEND;TZID=UTC:20200806T170000
DTSTAMP:20260423T115049
CREATED:20200804T210442Z
LAST-MODIFIED:20200804T210442Z
UID:10548-1596718800-1596733200@www.sunshineiarts.co.uk
SUMMARY:Darcus Howe: British Black Panther
DESCRIPTION:“…I never once believed what they wanted us to believe – that we as black people are inferior to whites…”― Darcus Howe
URL:https://www.sunshineiarts.co.uk/event/darcus-howe-british-black-panther/
LOCATION:CAFE\, STUDIO 5 209A\, COLDHABOUR LANE\, LONDON\, SW9 8RU\, United Kingdom
CATEGORIES:Events
GEO:51.465625;-0.102397
X-APPLE-STRUCTURED-LOCATION;VALUE=URI;X-ADDRESS=CAFE STUDIO 5 209A COLDHABOUR LANE LONDON SW9 8RU United Kingdom;X-APPLE-RADIUS=500;X-TITLE=STUDIO 5 209A\, COLDHABOUR LANE:geo:-0.102397,51.465625
END:VEVENT
BEGIN:VEVENT
DTSTART;TZID=UTC:20200807T080000
DTEND;TZID=UTC:20200807T170000
DTSTAMP:20260423T115049
CREATED:20200718T172640Z
LAST-MODIFIED:20200804T205117Z
UID:10344-1596787200-1596819600@www.sunshineiarts.co.uk
SUMMARY:Calypso- Kaiso music has its origins in West Africa (particularly in present-day Nigeria) and in the Kingdom of Kongo and was brought over by the enslaved Africans\,
DESCRIPTION:#siasummer20nhc #CaribbeanHistory #carnivalHstory \nCaribbean Music: “Kaiso” — Some history and examples to listen to! \nGrowing up in the Caribbean\, especially being raised by Trinidadians\, I have been exposed to a variety of music from across the region. Particularly music out of Trinidad. By Jamtaylor \n……… \nCalypso originated within Trinidad when slaves from West Africa were brought into the Caribbean islands to work on the sugar plantations. It is believed that Calypso evolved from the West African “Kaiso.” Known as “the poor man’s newspaper\,” Calypso first emerged in tents\, where slaves who were forbidden to speak to each other would meet in secret; a way of preserving west African traditions\, communicating news and mocking their cruel masters. By Egypt Today Staff …  \n 
URL:https://www.sunshineiarts.co.uk/event/calypso-kaiso-music-has-its-origins-in-west-africa-particularly-in-present-day-nigeria-and-in-the-kingdom-of-kongo-and-was-brought-over-by-the-enslaved-africans/
LOCATION:CAFE\, STUDIO 5 209A\, COLDHABOUR LANE\, LONDON\, SW9 8RU\, United Kingdom
CATEGORIES:Events
ATTACH;FMTTYPE=image/jpeg:https://www.sunshineiarts.co.uk/wp-content/uploads/2020/07/Kaiso-.jpg
GEO:51.465625;-0.102397
X-APPLE-STRUCTURED-LOCATION;VALUE=URI;X-ADDRESS=CAFE STUDIO 5 209A COLDHABOUR LANE LONDON SW9 8RU United Kingdom;X-APPLE-RADIUS=500;X-TITLE=STUDIO 5 209A\, COLDHABOUR LANE:geo:-0.102397,51.465625
END:VEVENT
BEGIN:VEVENT
DTSTART;TZID=UTC:20200808T080000
DTEND;TZID=UTC:20200808T170000
DTSTAMP:20260423T115049
CREATED:20200718T173040Z
LAST-MODIFIED:20200804T205846Z
UID:10348-1596873600-1596906000@www.sunshineiarts.co.uk
SUMMARY:Notting Hill Carnival History: How Race Riots Inspired London’s Caribbean Carnival\, Chloe-Rose Crabtree
DESCRIPTION:#siasummer20nhc #CaribbeanHistory #carnivalHstory \n\n\nNotting Hill Carnival is London’s biggest street party\, with costumed revellers and steel bands bringing the city to life in a colourful celebration of West Indian culture. In sharp contrast to its euphoric atmosphere\, Carnival’s origins lie in race riots that saw the newly arrived immigrant population attacked by white nationalists.\n\n\n\nThe Notting Hill race riots\n  \n\n 
URL:https://www.sunshineiarts.co.uk/event/notting-hill-carnival-history-how-race-riots-inspired-londons-caribbean-carnival-chloe-rose-crabtree/
LOCATION:CAFE\, STUDIO 5 209A\, COLDHABOUR LANE\, LONDON\, SW9 8RU\, United Kingdom
CATEGORIES:Events
ATTACH;FMTTYPE=image/jpeg:https://www.sunshineiarts.co.uk/wp-content/uploads/2020/07/NHC-history-.jpg
GEO:51.465625;-0.102397
X-APPLE-STRUCTURED-LOCATION;VALUE=URI;X-ADDRESS=CAFE STUDIO 5 209A COLDHABOUR LANE LONDON SW9 8RU United Kingdom;X-APPLE-RADIUS=500;X-TITLE=STUDIO 5 209A\, COLDHABOUR LANE:geo:-0.102397,51.465625
END:VEVENT
BEGIN:VEVENT
DTSTART;TZID=UTC:20200808T120000
DTEND;TZID=UTC:20200808T170000
DTSTAMP:20260423T115049
CREATED:20200804T210030Z
LAST-MODIFIED:20200804T210030Z
UID:10546-1596888000-1596906000@www.sunshineiarts.co.uk
SUMMARY:Notting Hill Carnival — the untold story ISHMAHIL BLAGROVE JR
DESCRIPTION:Notting Hill Carnival — the untold story \nISHMAHIL BLAGROVE JR
URL:https://www.sunshineiarts.co.uk/event/notting-hill-carnival%e2%80%89-%e2%80%89the-untold-story-ishmahil-blagrove-jr/
LOCATION:CAFE\, STUDIO 5 209A\, COLDHABOUR LANE\, LONDON\, SW9 8RU\, United Kingdom
CATEGORIES:Events
GEO:51.465625;-0.102397
X-APPLE-STRUCTURED-LOCATION;VALUE=URI;X-ADDRESS=CAFE STUDIO 5 209A COLDHABOUR LANE LONDON SW9 8RU United Kingdom;X-APPLE-RADIUS=500;X-TITLE=STUDIO 5 209A\, COLDHABOUR LANE:geo:-0.102397,51.465625
END:VEVENT
BEGIN:VEVENT
DTSTART;TZID=UTC:20200809T080000
DTEND;TZID=UTC:20200809T170000
DTSTAMP:20260423T115049
CREATED:20200718T173957Z
LAST-MODIFIED:20200903T152129Z
UID:10353-1596960000-1596992400@www.sunshineiarts.co.uk
SUMMARY:Avion Mookram “I remember Carnival Monday/Tuesday February 1954”
DESCRIPTION:What an interesting story from St Vincent Street San Fernando (South Trinidad) to leading one of  Notting Hill Carnival major band – South Connections  \nAvion has been part of my life from the first time I came to London to now at S.i.A -Ray \nAvion Mookram \n#siasummer20nhc \n#siafamilymystory \n #NHCpioneer #CaribbeanHistory #carnivalHstory
URL:https://www.sunshineiarts.co.uk/event/avion-mookram-i-remember-carnival-monday-tuesday-february-1954/2020-08-09/
LOCATION:CAFE\, STUDIO 5 209A\, COLDHABOUR LANE\, LONDON\, SW9 8RU\, United Kingdom
CATEGORIES:Events
ATTACH;FMTTYPE=image/jpeg:https://www.sunshineiarts.co.uk/wp-content/uploads/2020/07/IMG_3419.jpeg
GEO:51.465625;-0.102397
X-APPLE-STRUCTURED-LOCATION;VALUE=URI;X-ADDRESS=CAFE STUDIO 5 209A COLDHABOUR LANE LONDON SW9 8RU United Kingdom;X-APPLE-RADIUS=500;X-TITLE=STUDIO 5 209A\, COLDHABOUR LANE:geo:-0.102397,51.465625
END:VEVENT
BEGIN:VEVENT
DTSTART;TZID=UTC:20200809T080000
DTEND;TZID=UTC:20200809T170000
DTSTAMP:20260423T115049
CREATED:20200718T174519Z
LAST-MODIFIED:20200903T151927Z
UID:10356-1596960000-1596992400@www.sunshineiarts.co.uk
SUMMARY:Alwin Chow Lin On\,
DESCRIPTION:Alwin Chow Lin On\, ‘Chow’ to all who knew him in the UK\, 30 April 1935 – 29 July 2011 \n#siasummer20nhc  \n“At this time I had the opportunity to work with Alwin Chow Lin On(who was instrumental in a lot of Minshall large costume) We called him- Chowie. I got very involved in larger costume designs the way he worked and drew his structured and calculated was a dream it took me back to my Architecture school days”.Ray \n#siafamilymystory \n #NHCpioneer #CaribbeanHistory #carnivalHstory \n 
URL:https://www.sunshineiarts.co.uk/event/alwin-chow-lin-on-chow-to-all-who-knew-him-in-the-uk-30-april-1935-29-july-2011/2020-08-09/
LOCATION:CAFE\, STUDIO 5 209A\, COLDHABOUR LANE\, LONDON\, SW9 8RU\, United Kingdom
CATEGORIES:Events
ATTACH;FMTTYPE=image/jpeg:https://www.sunshineiarts.co.uk/wp-content/uploads/2020/07/IMG_3022-1-e1594286205928.jpg
GEO:51.465625;-0.102397
X-APPLE-STRUCTURED-LOCATION;VALUE=URI;X-ADDRESS=CAFE STUDIO 5 209A COLDHABOUR LANE LONDON SW9 8RU United Kingdom;X-APPLE-RADIUS=500;X-TITLE=STUDIO 5 209A\, COLDHABOUR LANE:geo:-0.102397,51.465625
END:VEVENT
BEGIN:VEVENT
DTSTART;TZID=UTC:20200809T080000
DTEND;TZID=UTC:20200809T220000
DTSTAMP:20260423T115049
CREATED:20200718T173424Z
LAST-MODIFIED:20200809T075729Z
UID:10351-1596960000-1597010400@www.sunshineiarts.co.uk
SUMMARY:2000 Canboulay\, out of the fire comes ?
DESCRIPTION:#siasummer20nhc 2000 Canboulay\, out of the fire comes\, DANCE OF THE CLOTH. \nCreated for South Connection Carnival Club the bands Notting Hill carnival production entitled-Ray Allan Mahabi \n#siafamilymystory \n #NHCpioneer #CaribbeanHistory #carnivalHstory \n 
URL:https://www.sunshineiarts.co.uk/event/2000-canboulay-out-of-the-fire-comes-comingsoon-siasummer20nhc/
LOCATION:CAFE\, STUDIO 5 209A\, COLDHABOUR LANE\, LONDON\, SW9 8RU\, United Kingdom
CATEGORIES:Events
ATTACH;FMTTYPE=image/jpeg:https://www.sunshineiarts.co.uk/wp-content/uploads/2020/07/IMG_2896.jpg
GEO:51.465625;-0.102397
X-APPLE-STRUCTURED-LOCATION;VALUE=URI;X-ADDRESS=CAFE STUDIO 5 209A COLDHABOUR LANE LONDON SW9 8RU United Kingdom;X-APPLE-RADIUS=500;X-TITLE=STUDIO 5 209A\, COLDHABOUR LANE:geo:-0.102397,51.465625
END:VEVENT
END:VCALENDAR