BEGIN:VCALENDAR
VERSION:2.0
PRODID:-//Sunshine International Arts - ECPv6.6.1//NONSGML v1.0//EN
CALSCALE:GREGORIAN
METHOD:PUBLISH
X-ORIGINAL-URL:https://www.sunshineiarts.co.uk
X-WR-CALDESC:Events for Sunshine International Arts
REFRESH-INTERVAL;VALUE=DURATION:PT1H
X-Robots-Tag:noindex
X-PUBLISHED-TTL:PT1H
BEGIN:VTIMEZONE
TZID:UTC
BEGIN:STANDARD
TZOFFSETFROM:+0000
TZOFFSETTO:+0000
TZNAME:UTC
DTSTART:20200101T000000
END:STANDARD
END:VTIMEZONE
BEGIN:VEVENT
DTSTART;TZID=UTC:20200810T080000
DTEND;TZID=UTC:20200810T170000
DTSTAMP:20260423T115518
CREATED:20200717T193528Z
LAST-MODIFIED:20200720T195708Z
UID:10331-1597046400-1597078800@www.sunshineiarts.co.uk
SUMMARY:From October 2020 -Creative Spaces For Hire at C.A.F.E.
DESCRIPTION:Part of our mission as a creative space firmly rooted in the heart of the community is to offer a venue to meet the needs of our locals\, creatives and general public. Studio 3 \, Studio 4 and our Main Arch are available for hire for a number of activities \nSpaces for hire 
URL:https://www.sunshineiarts.co.uk/event/sunshines-nhc-2020-statement/
LOCATION:CAFE\, STUDIO 5 209A\, COLDHABOUR LANE\, LONDON\, SW9 8RU\, United Kingdom
CATEGORIES:Events
ATTACH;FMTTYPE=image/jpeg:https://www.sunshineiarts.co.uk/wp-content/uploads/2019/04/VENUE-HIRE-MAIN-IMAGE-1.jpg
GEO:51.465625;-0.102397
X-APPLE-STRUCTURED-LOCATION;VALUE=URI;X-ADDRESS=CAFE STUDIO 5 209A COLDHABOUR LANE LONDON SW9 8RU United Kingdom;X-APPLE-RADIUS=500;X-TITLE=STUDIO 5 209A\, COLDHABOUR LANE:geo:-0.102397,51.465625
END:VEVENT
BEGIN:VEVENT
DTSTART;TZID=UTC:20200810T130000
DTEND;TZID=UTC:20200810T170000
DTSTAMP:20260423T115518
CREATED:20200720T135226Z
LAST-MODIFIED:20200729T131432Z
UID:10426-1597064400-1597078800@www.sunshineiarts.co.uk
SUMMARY:Mahogany Arts- a group of multi-disciplinary artist. #NHCpioneer #siasummer20nhc
DESCRIPTION:Another band and true carnival artist are Clary and Speedy from Mahogany mas band they are also a regular band that S.i.A works with on national and international projects… \n‘My first memory is of winning a carnival competition in a gorgeous little fairy costume\,’ Clary recalls. ‘I still have the cup from it.’ Speedy’s parents\, on the other hand\, were bitterly opposed to carnival. ‘My father was a local politician and he disapproved. I was always sneaking out to play mas. One time\, I ended up making 400 costumes overnight. That’s how I got my nickname.’
URL:https://www.sunshineiarts.co.uk/event/mahogany-arts-is-a-group-of-multi-disciplinary-artist-nhcpioneer-siasummer20nhc/
LOCATION:CAFE\, STUDIO 5 209A\, COLDHABOUR LANE\, LONDON\, SW9 8RU\, United Kingdom
CATEGORIES:Events
GEO:51.465625;-0.102397
X-APPLE-STRUCTURED-LOCATION;VALUE=URI;X-ADDRESS=CAFE STUDIO 5 209A COLDHABOUR LANE LONDON SW9 8RU United Kingdom;X-APPLE-RADIUS=500;X-TITLE=STUDIO 5 209A\, COLDHABOUR LANE:geo:-0.102397,51.465625
END:VEVENT
BEGIN:VEVENT
DTSTART;TZID=UTC:20200811T080000
DTEND;TZID=UTC:20200811T170000
DTSTAMP:20260423T115518
CREATED:20200720T120932Z
LAST-MODIFIED:20200720T120952Z
UID:10371-1597132800-1597165200@www.sunshineiarts.co.uk
SUMMARY:THE BLACK ART OF MAKING MAS Welcome to Glorious Backstage Arts
DESCRIPTION:Welcome to Glorious Backstage Arts \nProviding opportunities to develop experience in: theatrical costume design and construction; dance and theatrical presentation; arts and event management. \nhttps://m.youtube.com/watch?feature=youtu.be&v=ANzXZ9P900E
URL:https://www.sunshineiarts.co.uk/event/the-black-art-of-making-mas-welcome-to-glorious-backstage-arts/
LOCATION:CAFE\, STUDIO 5 209A\, COLDHABOUR LANE\, LONDON\, SW9 8RU\, United Kingdom
CATEGORIES:Events
GEO:51.465625;-0.102397
X-APPLE-STRUCTURED-LOCATION;VALUE=URI;X-ADDRESS=CAFE STUDIO 5 209A COLDHABOUR LANE LONDON SW9 8RU United Kingdom;X-APPLE-RADIUS=500;X-TITLE=STUDIO 5 209A\, COLDHABOUR LANE:geo:-0.102397,51.465625
END:VEVENT
BEGIN:VEVENT
DTSTART;TZID=UTC:20200811T120000
DTEND;TZID=UTC:20200811T170000
DTSTAMP:20260423T115518
CREATED:20200720T135459Z
LAST-MODIFIED:20200811T091610Z
UID:10428-1597147200-1597165200@www.sunshineiarts.co.uk
SUMMARY:Flamingo Carnival Arts was founded in 1983.#siasummer20nhc #siafamilymystory #NHCpioneer
DESCRIPTION:Flamingo mas band was the first band S.i.A collaborated with for NHC \,we performed alone side the band for four years alongside NHC before taking to the road on our own as S.i.A  – Martha was always welcoming and accommodating at a band leader  \nFlamingo Carnival Arts was founded in 1983\, in common with many small groups\, The organisation which is Flamingo began in someones front room. Martha Fevrier
URL:https://www.sunshineiarts.co.uk/event/flamingo-carnival-arts-was-founded-in-1983-siasummer20nhc-siafamilymystory-nhcpioneer/
LOCATION:CAFE\, STUDIO 5 209A\, COLDHABOUR LANE\, LONDON\, SW9 8RU\, United Kingdom
CATEGORIES:Events
GEO:51.465625;-0.102397
X-APPLE-STRUCTURED-LOCATION;VALUE=URI;X-ADDRESS=CAFE STUDIO 5 209A COLDHABOUR LANE LONDON SW9 8RU United Kingdom;X-APPLE-RADIUS=500;X-TITLE=STUDIO 5 209A\, COLDHABOUR LANE:geo:-0.102397,51.465625
END:VEVENT
BEGIN:VEVENT
DTSTART;TZID=UTC:20200812T080000
DTEND;TZID=UTC:20200812T170000
DTSTAMP:20260423T115518
CREATED:20200720T121304Z
LAST-MODIFIED:20200720T121746Z
UID:10373-1597219200-1597251600@www.sunshineiarts.co.uk
SUMMARY:Nelson Island and Indian Indentureship in Trinidad. My Roots and My culture.
DESCRIPTION:SUNSHINE INTERNATIONAL ARTS. Carnival and Community Arts  \nDrawing on his Indo Caribbean roots\, Ray Mahabir has used his experience gained by working with the masquerade tradition of Trinidad Carnival as inspiration for his designs for costumes used in processional art. #siasummer20nhc  \nhttp://www.natt.gov.tt/sites/default/files/pdfs/Nelson-Island-and-Indian-Indentureship-in-Trinidad_02.pdf
URL:https://www.sunshineiarts.co.uk/event/nelson-island-and-indian-indentureship-in-trinidad-my-roots-and-my-culture/
LOCATION:CAFE\, STUDIO 5 209A\, COLDHABOUR LANE\, LONDON\, SW9 8RU\, United Kingdom
CATEGORIES:Events
ATTACH;FMTTYPE=image/jpeg:https://www.sunshineiarts.co.uk/wp-content/uploads/2020/07/IMG_8911.jpeg
GEO:51.465625;-0.102397
X-APPLE-STRUCTURED-LOCATION;VALUE=URI;X-ADDRESS=CAFE STUDIO 5 209A COLDHABOUR LANE LONDON SW9 8RU United Kingdom;X-APPLE-RADIUS=500;X-TITLE=STUDIO 5 209A\, COLDHABOUR LANE:geo:-0.102397,51.465625
END:VEVENT
BEGIN:VEVENT
DTSTART;TZID=UTC:20200812T130000
DTEND;TZID=UTC:20200812T170000
DTSTAMP:20260423T115518
CREATED:20200720T121538Z
LAST-MODIFIED:20200720T121538Z
UID:10375-1597237200-1597251600@www.sunshineiarts.co.uk
SUMMARY:THE EXPERIENCE OF INDIAN INDENTURE IN TRINIDAD: ARRIVAL AND SETTLEMENT
DESCRIPTION:THE EXPERIENCE OF INDIAN INDENTURE IN TRINIDAD: ARRIVAL AND SETTLEMENT #siasummer20nhc \nBetween 1845 and 1917 a total of 143\,939 Indians migrated to Trinidad under the system of Indian indenture. Most of these indentured labourers were drawn from the agricultural and laboring classes of the Uttar Pradesh and Bihar regions of north India\, with a comparatively smaller number being recruited from Bengal and various areas in south India. Approximately 85% of the immigrants were Hindus\, and 14% Muslims. \nhttp://www.caribbean-atlas.com/en/themes/waves-of-colonization-and-control-in-the-caribbean/waves-of-colonization/the-experience-of-indian-indenture-in-trinidad-arrival-and-settlement.html
URL:https://www.sunshineiarts.co.uk/event/the-experience-of-indian-indenture-in-trinidad-arrival-and-settlement/
LOCATION:CAFE\, STUDIO 5 209A\, COLDHABOUR LANE\, LONDON\, SW9 8RU\, United Kingdom
CATEGORIES:Events
ATTACH;FMTTYPE=image/jpeg:https://www.sunshineiarts.co.uk/wp-content/uploads/2020/07/IMG_7666.jpeg
GEO:51.465625;-0.102397
X-APPLE-STRUCTURED-LOCATION;VALUE=URI;X-ADDRESS=CAFE STUDIO 5 209A COLDHABOUR LANE LONDON SW9 8RU United Kingdom;X-APPLE-RADIUS=500;X-TITLE=STUDIO 5 209A\, COLDHABOUR LANE:geo:-0.102397,51.465625
END:VEVENT
BEGIN:VEVENT
DTSTART;TZID=UTC:20200813T080000
DTEND;TZID=UTC:20200813T170000
DTSTAMP:20260423T115518
CREATED:20200720T122107Z
LAST-MODIFIED:20200919T091517Z
UID:10378-1597305600-1597338000@www.sunshineiarts.co.uk
SUMMARY:Ray the story part 2 #siasummer20nhc
DESCRIPTION:“As a carnival designer what is important about what you are creating is knowing the true meaning of masquerade (Mas) and how wearable art works. Mas is a unique and important art form that allows any individual to become a performer – this often shows when someone is wearing your creation and they are able to glow and shine as a true star!” Ray Mahabir 
URL:https://www.sunshineiarts.co.uk/event/ray-the-story-part-2-comingsoon-siasummer20nhc/2020-08-13/
LOCATION:CAFE\, STUDIO 5 209A\, COLDHABOUR LANE\, LONDON\, SW9 8RU\, United Kingdom
CATEGORIES:Events
ATTACH;FMTTYPE=image/jpeg:https://www.sunshineiarts.co.uk/wp-content/uploads/2020/07/d325c884-d8b4-414e-8e4d-d5f69cfd75e6.jpg
GEO:51.465625;-0.102397
X-APPLE-STRUCTURED-LOCATION;VALUE=URI;X-ADDRESS=CAFE STUDIO 5 209A COLDHABOUR LANE LONDON SW9 8RU United Kingdom;X-APPLE-RADIUS=500;X-TITLE=STUDIO 5 209A\, COLDHABOUR LANE:geo:-0.102397,51.465625
END:VEVENT
BEGIN:VEVENT
DTSTART;TZID=UTC:20200813T130000
DTEND;TZID=UTC:20200813T170000
DTSTAMP:20260423T115518
CREATED:20200720T122824Z
LAST-MODIFIED:20200812T220226Z
UID:10380-1597323600-1597338000@www.sunshineiarts.co.uk
SUMMARY:The Making of Ma Ma La Terre performed by Avion Mookram 2000 #siasummer20nhc
DESCRIPTION:This post will showcase the cross section of artist who are involved in the creation of large scale carnival costume and the hard worked and passionate that goes into each costume. Ma Ma La Terre \nThis piece was showcased at the Victoria and Albert Museum exhibition Carnival in Close-up \, From the Caribbean to Britain and beyond October- November 2000. 
URL:https://www.sunshineiarts.co.uk/event/the-making-of-ma-ma-la-terre-performed-by-avion-mookram-2000-comingsoon-siasummer20nhc/
LOCATION:CAFE\, STUDIO 5 209A\, COLDHABOUR LANE\, LONDON\, SW9 8RU\, United Kingdom
CATEGORIES:Events
ATTACH;FMTTYPE=image/jpeg:https://www.sunshineiarts.co.uk/wp-content/uploads/2020/07/IMG_2948.jpeg
GEO:51.465625;-0.102397
X-APPLE-STRUCTURED-LOCATION;VALUE=URI;X-ADDRESS=CAFE STUDIO 5 209A COLDHABOUR LANE LONDON SW9 8RU United Kingdom;X-APPLE-RADIUS=500;X-TITLE=STUDIO 5 209A\, COLDHABOUR LANE:geo:-0.102397,51.465625
END:VEVENT
BEGIN:VEVENT
DTSTART;TZID=UTC:20200814T080000
DTEND;TZID=UTC:20200814T170000
DTSTAMP:20260423T115518
CREATED:20200720T123308Z
LAST-MODIFIED:20200813T202350Z
UID:10382-1597392000-1597424400@www.sunshineiarts.co.uk
SUMMARY:MULANA ‘the art of people’  2001-2020 #siasummer20nhc 
DESCRIPTION:MULANA ‘the art of people’  2001-2020 #siasummer20nhc Click Here  \n“During part of this trip to India I visited the village my forefathers come from in India – I am five generation Indian\, my family came from a village called Sidhownay village\, Bikhapur\, Fyzabad\, which is nearest city to Lucknow and is the capital city of the Indian state of Uttar Pradesh. \n On my return to the UK I developed Sunshine International Arts (S.i.A)\, a UK based arts charity. After coming to the UK to live I found what I call my “new village” – Loughborough Junction\, Brixton\, London – the home of Sunshine International Arts.   \n 
URL:https://www.sunshineiarts.co.uk/event/mulana-the-art-of-people-2001-2020-siasummer20nhc/
LOCATION:CAFE\, STUDIO 5 209A\, COLDHABOUR LANE\, LONDON\, SW9 8RU\, United Kingdom
CATEGORIES:Events
ATTACH;FMTTYPE=image/jpeg:https://www.sunshineiarts.co.uk/wp-content/uploads/2014/02/mulana-content.jpg
GEO:51.465625;-0.102397
X-APPLE-STRUCTURED-LOCATION;VALUE=URI;X-ADDRESS=CAFE STUDIO 5 209A COLDHABOUR LANE LONDON SW9 8RU United Kingdom;X-APPLE-RADIUS=500;X-TITLE=STUDIO 5 209A\, COLDHABOUR LANE:geo:-0.102397,51.465625
END:VEVENT
BEGIN:VEVENT
DTSTART;TZID=UTC:20200814T080000
DTEND;TZID=UTC:20200814T233000
DTSTAMP:20260423T115518
CREATED:20200720T123626Z
LAST-MODIFIED:20200720T123626Z
UID:10384-1597392000-1597447800@www.sunshineiarts.co.uk
SUMMARY:In memory of the Jahagis
DESCRIPTION:A video presentation outlining the arrival of East Indian Indentured labourers to Trinidad during the period 1845 to 1917. This presentation was done for Indian Arrival Day celebrations at St Augustine South Government Primary School (SASGPS). The background music is in Hindi and is based on Psalms 91: “He that dwelleth in the secret place of the most High shall abide under the shadow of the Almighty. I will say of the LORD\, He is my refuge and my fortress: my God; in him will I trust.” I think the person singing is Anil Kant. \n  \n 
URL:https://www.sunshineiarts.co.uk/event/in-memory-of-the-jahagis/
LOCATION:CAFE\, STUDIO 5 209A\, COLDHABOUR LANE\, LONDON\, SW9 8RU\, United Kingdom
CATEGORIES:Events
GEO:51.465625;-0.102397
X-APPLE-STRUCTURED-LOCATION;VALUE=URI;X-ADDRESS=CAFE STUDIO 5 209A COLDHABOUR LANE LONDON SW9 8RU United Kingdom;X-APPLE-RADIUS=500;X-TITLE=STUDIO 5 209A\, COLDHABOUR LANE:geo:-0.102397,51.465625
END:VEVENT
BEGIN:VEVENT
DTSTART;TZID=UTC:20200814T140000
DTEND;TZID=UTC:20200814T170000
DTSTAMP:20260423T115518
CREATED:20200726T104323Z
LAST-MODIFIED:20200726T104323Z
UID:10519-1597413600-1597424400@www.sunshineiarts.co.uk
SUMMARY:About Liverpool International Carnival 2016
DESCRIPTION:Ray Mahabir talks about Brouhaha and about Liverpool International Carnival 2016. \n 
URL:https://www.sunshineiarts.co.uk/event/about-liverpool-international-carnival-2016/
LOCATION:CAFE\, STUDIO 5 209A\, COLDHABOUR LANE\, LONDON\, SW9 8RU\, United Kingdom
CATEGORIES:Events
GEO:51.465625;-0.102397
X-APPLE-STRUCTURED-LOCATION;VALUE=URI;X-ADDRESS=CAFE STUDIO 5 209A COLDHABOUR LANE LONDON SW9 8RU United Kingdom;X-APPLE-RADIUS=500;X-TITLE=STUDIO 5 209A\, COLDHABOUR LANE:geo:-0.102397,51.465625
END:VEVENT
BEGIN:VEVENT
DTSTART;TZID=UTC:20200815T080000
DTEND;TZID=UTC:20200815T170000
DTSTAMP:20260423T115518
CREATED:20200720T123901Z
LAST-MODIFIED:20200813T203522Z
UID:10386-1597478400-1597510800@www.sunshineiarts.co.uk
SUMMARY:International Slavery Museum\, Sailor Mas costume 2007 #siasummer20nhc
DESCRIPTION:International Slavery Museum\, Art Commission Brief – Sailor Mas costume 2007 \n#siasummer20nhc  \nConcept for the Sailor Mas costume (Fancy Sailor) Ray Mahabir- February 2007 Perhaps the most visual manifestation of cultural transformation is Carnival – a complex merging of European religious festivities within Latin America with   elements of African festival. Trinidad is the cradle of carnival but the festival has been transported across the Caribbean\, North and South America and to Europe. \nNotting Hill Carnival in London\, established by Claudia Jones\, is the main carnival in Britain\, celebrated by black and white. Other carnivals take place in cities across the country. Click Here 
URL:https://www.sunshineiarts.co.uk/event/international-slavery-museum-art-commission-brief-sailor-mas-costume-2007-comingsoon-siasummer20nhc/
LOCATION:CAFE\, STUDIO 5 209A\, COLDHABOUR LANE\, LONDON\, SW9 8RU\, United Kingdom
CATEGORIES:Events
ATTACH;FMTTYPE=image/jpeg:https://www.sunshineiarts.co.uk/wp-content/uploads/2020/07/Joseph-Johnson-Sailor-1815.jpeg
GEO:51.465625;-0.102397
X-APPLE-STRUCTURED-LOCATION;VALUE=URI;X-ADDRESS=CAFE STUDIO 5 209A COLDHABOUR LANE LONDON SW9 8RU United Kingdom;X-APPLE-RADIUS=500;X-TITLE=STUDIO 5 209A\, COLDHABOUR LANE:geo:-0.102397,51.465625
END:VEVENT
BEGIN:VEVENT
DTSTART;TZID=UTC:20200815T120000
DTEND;TZID=UTC:20200815T170000
DTSTAMP:20260423T115518
CREATED:20200720T124210Z
LAST-MODIFIED:20200909T102926Z
UID:10388-1597492800-1597510800@www.sunshineiarts.co.uk
SUMMARY:Neil Macey from ‘De hill’ to Hackney  #siasummer20nhc 
DESCRIPTION:#siasummer20nhc  \n“All the youth in the neighbourhood used to play mas with that band so it was like one big family. In my neighbourhood there were lots of steel bands. We had Tokyo\, Fascinators\, Hill 60\, and City Symphony” Neil Macey  \nPhoto Neils dad in Sailor mas Click Here 
URL:https://www.sunshineiarts.co.uk/event/neil-macey-from-de-hill-to-hackney-comingsoon-siasummer20nhc/2020-08-15/
LOCATION:CAFE\, STUDIO 5 209A\, COLDHABOUR LANE\, LONDON\, SW9 8RU\, United Kingdom
CATEGORIES:Events
ATTACH;FMTTYPE=image/jpeg:https://www.sunshineiarts.co.uk/wp-content/uploads/2020/07/Neil-dad-in-Sailor-costume-.jpg
GEO:51.465625;-0.102397
X-APPLE-STRUCTURED-LOCATION;VALUE=URI;X-ADDRESS=CAFE STUDIO 5 209A COLDHABOUR LANE LONDON SW9 8RU United Kingdom;X-APPLE-RADIUS=500;X-TITLE=STUDIO 5 209A\, COLDHABOUR LANE:geo:-0.102397,51.465625
END:VEVENT
BEGIN:VEVENT
DTSTART;TZID=UTC:20200815T143000
DTEND;TZID=UTC:20200815T170000
DTSTAMP:20260423T115518
CREATED:20200720T124549Z
LAST-MODIFIED:20200720T194418Z
UID:10392-1597501800-1597510800@www.sunshineiarts.co.uk
SUMMARY:Minshall... A Ship of Fools 2003 
DESCRIPTION:Minshall A Ship of Fools 2003  \nPeter Minshall’s 2003 Carnival presentation\, “A Ship of Fools”\, has tremendous creative material to choose from the present goings-on in this so-called independent republic with all the brouhaha about the apparent newspaper exposure of a secret Muslim sect with a “lab” of supposed biological and chemical weapons of war\, ready to attack American and British capital investments here as well as all their personnel and private property\, if Muslims are provoked by an attack on Iraq. \n#siasummer20nhc \n 
URL:https://www.sunshineiarts.co.uk/event/minshall-a-ship-of-fools-2003/
LOCATION:CAFE\, STUDIO 5 209A\, COLDHABOUR LANE\, LONDON\, SW9 8RU\, United Kingdom
CATEGORIES:Events
ATTACH;FMTTYPE=image/jpeg:https://www.sunshineiarts.co.uk/wp-content/uploads/2020/07/Ray-and-friend-Roger-Trinidad-Minsall-mas-Ship-of-Fools-.jpeg
GEO:51.465625;-0.102397
X-APPLE-STRUCTURED-LOCATION;VALUE=URI;X-ADDRESS=CAFE STUDIO 5 209A COLDHABOUR LANE LONDON SW9 8RU United Kingdom;X-APPLE-RADIUS=500;X-TITLE=STUDIO 5 209A\, COLDHABOUR LANE:geo:-0.102397,51.465625
END:VEVENT
BEGIN:VEVENT
DTSTART;TZID=UTC:20200816T080000
DTEND;TZID=UTC:20200816T170000
DTSTAMP:20260423T115518
CREATED:20200720T125016Z
LAST-MODIFIED:20200813T203851Z
UID:10394-1597564800-1597597200@www.sunshineiarts.co.uk
SUMMARY:La Bel- Commission for the British Liberty exhibition 2015. #siasummer20nhc
DESCRIPTION:The Bele Costume-By Ray Mahabir – Commission for the British Liberty exhibition  \nA journey through time\, the Bele Costume by Ray Mahabir is indicative of Caribbean history\, struggle\, freedom and celebration.  The costume relates the cross-cultural rags-to-riches story of Carnival and inspires mental imagery of the Bel Air dance\, culture and folklore through the ages.   \nCarnival costume designed by Ray Mahabir of Sunshine International Arts in 2015\, based on Bele or Bel Air\, a drum dance and song closely linked to Caribbean history\, struggle\, freedom and celebration. On display in West Africa: Word\, Symbol\, Song\, \nphotographed by Toby Keane Click Here 
URL:https://www.sunshineiarts.co.uk/event/la-bel-commission-for-the-british-liberty-exhibition-2015/
LOCATION:CAFE\, STUDIO 5 209A\, COLDHABOUR LANE\, LONDON\, SW9 8RU\, United Kingdom
CATEGORIES:Events
ATTACH;FMTTYPE=image/jpeg:https://www.sunshineiarts.co.uk/wp-content/uploads/2020/07/IMG_3199-1.jpeg
GEO:51.465625;-0.102397
X-APPLE-STRUCTURED-LOCATION;VALUE=URI;X-ADDRESS=CAFE STUDIO 5 209A COLDHABOUR LANE LONDON SW9 8RU United Kingdom;X-APPLE-RADIUS=500;X-TITLE=STUDIO 5 209A\, COLDHABOUR LANE:geo:-0.102397,51.465625
END:VEVENT
BEGIN:VEVENT
DTSTART;TZID=UTC:20200816T120000
DTEND;TZID=UTC:20200816T170000
DTSTAMP:20260423T115518
CREATED:20200720T130456Z
LAST-MODIFIED:20200813T204109Z
UID:10398-1597579200-1597597200@www.sunshineiarts.co.uk
SUMMARY:Reach the Unreachable Kenya 2019 - 
DESCRIPTION:#siasummer20nhc \nReach the Unreachable Kenya 2019 –  \nAs the Artistic Director of S.i.A\, my main focus so far has been within Britain\, as well as some international projects. I have spent the past 23 years taking carnival arts to new audiences national and international\, but one piece of the puzzle was missing. In 2018 I decided it was time to re-visit Caribbean carnival in it’s birthland – Trinidad and Tobago – but I could not ignore the roots and history it has in Africa (as well as Europe). \nThese three areas of the world make up what is known as the ‘Transatlantic Triangular Trade Route’. My idea was to reverse this route and educate the three continents in the Art of Carnival. Click Here 
URL:https://www.sunshineiarts.co.uk/event/reach-the-unreachable-kenya-2019-comingsoon/
LOCATION:CAFE\, STUDIO 5 209A\, COLDHABOUR LANE\, LONDON\, SW9 8RU\, United Kingdom
CATEGORIES:Events
ATTACH;FMTTYPE=image/jpeg:https://www.sunshineiarts.co.uk/wp-content/uploads/2020/07/0c531cef-6324-44d3-a34b-42bb79db8d1e-1.jpg
GEO:51.465625;-0.102397
X-APPLE-STRUCTURED-LOCATION;VALUE=URI;X-ADDRESS=CAFE STUDIO 5 209A COLDHABOUR LANE LONDON SW9 8RU United Kingdom;X-APPLE-RADIUS=500;X-TITLE=STUDIO 5 209A\, COLDHABOUR LANE:geo:-0.102397,51.465625
END:VEVENT
END:VCALENDAR