BEGIN:VCALENDAR
VERSION:2.0
PRODID:-//Sunshine International Arts - ECPv6.6.1//NONSGML v1.0//EN
CALSCALE:GREGORIAN
METHOD:PUBLISH
X-WR-CALNAME:Sunshine International Arts
X-ORIGINAL-URL:https://www.sunshineiarts.co.uk
X-WR-CALDESC:Events for Sunshine International Arts
REFRESH-INTERVAL;VALUE=DURATION:PT1H
X-Robots-Tag:noindex
X-PUBLISHED-TTL:PT1H
BEGIN:VTIMEZONE
TZID:UTC
BEGIN:STANDARD
TZOFFSETFROM:+0000
TZOFFSETTO:+0000
TZNAME:UTC
DTSTART:20200101T000000
END:STANDARD
END:VTIMEZONE
BEGIN:VEVENT
DTSTART;TZID=UTC:20200824T080000
DTEND;TZID=UTC:20200824T170000
DTSTAMP:20260423T114911
CREATED:20200725T204358Z
LAST-MODIFIED:20200822T195839Z
UID:10495-1598256000-1598288400@www.sunshineiarts.co.uk
SUMMARY:Gangajal- “Holy Water” Created for South Connection 2001
DESCRIPTION:Gangajal- “Holy Water” 2001 \n“O Lord\, this man is impure\, like the mud of this river! But do thou cleanse and deliver his soul from sin as the water cleanses his body”.  \n #siasummer20nhc #siafamilymystory  \n#Keepyoureyeonthisspace Click Here 
URL:https://www.sunshineiarts.co.uk/event/gangajal-holy-water-created-for-south-connection-2001/
LOCATION:CAFE\, STUDIO 5 209A\, COLDHABOUR LANE\, LONDON\, SW9 8RU\, United Kingdom
CATEGORIES:Events
GEO:51.465625;-0.102397
X-APPLE-STRUCTURED-LOCATION;VALUE=URI;X-ADDRESS=CAFE STUDIO 5 209A COLDHABOUR LANE LONDON SW9 8RU United Kingdom;X-APPLE-RADIUS=500;X-TITLE=STUDIO 5 209A\, COLDHABOUR LANE:geo:-0.102397,51.465625
END:VEVENT
BEGIN:VEVENT
DTSTART;TZID=UTC:20200824T120000
DTEND;TZID=UTC:20200824T170000
DTSTAMP:20260423T114911
CREATED:20200725T204232Z
LAST-MODIFIED:20200726T104537Z
UID:10493-1598270400-1598288400@www.sunshineiarts.co.uk
SUMMARY:The Parade To Notting HillDirected by Buster Grey-Jung
DESCRIPTION:The Parade To Notting Hill \nDirected by Buster Grey-Jung \nMusic by Space Afrika \nhttps://www.bustergreyjung.com/the-parade-to-notting-hill
URL:https://www.sunshineiarts.co.uk/event/film-by-buster-grey-jung/
LOCATION:CAFE\, STUDIO 5 209A\, COLDHABOUR LANE\, LONDON\, SW9 8RU\, United Kingdom
GEO:51.465625;-0.102397
X-APPLE-STRUCTURED-LOCATION;VALUE=URI;X-ADDRESS=CAFE STUDIO 5 209A COLDHABOUR LANE LONDON SW9 8RU United Kingdom;X-APPLE-RADIUS=500;X-TITLE=STUDIO 5 209A\, COLDHABOUR LANE:geo:-0.102397,51.465625
END:VEVENT
BEGIN:VEVENT
DTSTART;TZID=UTC:20200825T080000
DTEND;TZID=UTC:20200825T170000
DTSTAMP:20260423T114911
CREATED:20200725T205127Z
LAST-MODIFIED:20200824T200039Z
UID:10499-1598342400-1598374800@www.sunshineiarts.co.uk
SUMMARY:OIL SLICK \, Between the Devil and the Deep Blue Sea  2015 
DESCRIPTION:SUNSHINE INTERNATIONAL ARTS  \nMODERN/CONTEMPORARY MEDIUM BANDS \nWar Birds – The Silver Lining – Pure in the Heart \n DESIGN BY RAY MAHABIR  \nThe concept of War Birds is based upon hope for future generations\, and encourages the optimistic dream that the next generation will learn from our mistakes and flourish from what they have learnt.  \nVisually we are working with:  \nThe Arctic is the last great unprotected wilderness\, safe haven for endangered species and home to native people whose sustainable lifestyle has survived in harmony with nature for thousands of years. \nClimate change has caused this region to grow warmer twice as fast as the rest of the planet\, melting the large ice masses that maintained the planetary stability.  The ground is therefore softer and more malleable and this makes these huge reserves of oil and gas more accessible. \nWhose right is it to rip apart this tranquil nirvana to the North?  The Arctic territorial boundaries are unclear\, especially as the landmass changes drastically on a daily basis.   \nSections:  \nPure in the heart – hope \nThe silver Lining – the future  \nThe doves- let’s have peace  \nWar birds – the fight to save the Arctic  \nThe RIGS  \nThe S.i.A family  \nThe cold war did not end in the 80s.   \n  \n“If we have no peace\, it is because we have forgotten that we belong to each other.” ~ Mother Teresa \n  \n \nMODERN/CONTEMPORARY MEDIUM BANDS \n OIL SLICK  \nBetween the Devil and the Deep Blue Sea  \n  \n“Wealth and poverty tumultuously converge at the estuary of uncertainty. A wretched celebration.  Beautiful yet tragic.   \nToxic at its very soul.  \n  \nThe exquisite richness of sapphires and emeralds of ancient royalty from a world long since extinct.  That glint of black gold in the eyes\, ignoring the weeping of oily tears and the gnashing of mortar teeth\, exploding into desolation as they hit the earth\, leaving only oily entrails and malignant scars.  \n  \n. \nOil Slick depicts the Gulf War and all its false promises.  Deceit and lies hidden by good intentions by the very people who are supposed to be honourably leading us to greatness.  An attempt to spread freedom and eliminate weapons of mass destruction. \nSection:  TurmOil  BACCHANAL throughout the Middle East. Justified by the COMMESS of rich world leaders puffing on their premium cigars.The Middle East has suffocated and died and all they do is MAMAGUY and go home to a warm bed and safe home.  \n  \n  \nTHE DYING SWANS describes the human element of the war for oil.   \nHope – the dove of peace – Everything is still.  The calm before the storm.  A future gleaming with hope even if the present isn’t perfect. \nInner love – the Queen of Hearts – the love for fellow mankind that is naturally engrained in us as humans at birth. \nEnvy – Pitch BLACK – Envy of what others have – why should they have it when you can?  The coveting of goods and experiences.  \nGreed – BLACK GOLD – Greed causing unspeakable thoughts\, actions and desires. \nHope – Ah Peace of BLACK –  Hope that it will all be well regardless of actions of those driven by Envy and Greed.   \nmEn….. The RIGs….. – The end result.  Blood spilt onto the dusty earth supplementing the oil spouting from the newly constructed oil rigs.  Oil rigs raping the world of its very essence \n 
URL:https://www.sunshineiarts.co.uk/event/oil-slick-between-the-devil-and-the-deep-blue-sea-2015/
LOCATION:CAFE\, STUDIO 5 209A\, COLDHABOUR LANE\, LONDON\, SW9 8RU\, United Kingdom
CATEGORIES:Events
GEO:51.465625;-0.102397
X-APPLE-STRUCTURED-LOCATION;VALUE=URI;X-ADDRESS=CAFE STUDIO 5 209A COLDHABOUR LANE LONDON SW9 8RU United Kingdom;X-APPLE-RADIUS=500;X-TITLE=STUDIO 5 209A\, COLDHABOUR LANE:geo:-0.102397,51.465625
END:VEVENT
BEGIN:VEVENT
DTSTART;TZID=UTC:20200825T120000
DTEND;TZID=UTC:20200825T170000
DTSTAMP:20260423T114911
CREATED:20200725T205303Z
LAST-MODIFIED:20200824T194447Z
UID:10502-1598356800-1598374800@www.sunshineiarts.co.uk
SUMMARY:2017 NHC Theme Revealed!!!…LO¥€…Exit stage left…De@th oF c@rn1¥@L
DESCRIPTION:2017 NHC Theme Revealed!!! \n…LO¥€… \nExit stage left…De@th oF c@rn1¥@L \nhttps://www.sunshineiarts.co.uk/2017-nhc-theme-revealed/
URL:https://www.sunshineiarts.co.uk/event/2017-nhc-theme-revealedlo%c2%a5eexit-stage-leftdeth-of-crn1%c2%a5l/
LOCATION:CAFE\, STUDIO 5 209A\, COLDHABOUR LANE\, LONDON\, SW9 8RU\, United Kingdom
CATEGORIES:Events
GEO:51.465625;-0.102397
X-APPLE-STRUCTURED-LOCATION;VALUE=URI;X-ADDRESS=CAFE STUDIO 5 209A COLDHABOUR LANE LONDON SW9 8RU United Kingdom;X-APPLE-RADIUS=500;X-TITLE=STUDIO 5 209A\, COLDHABOUR LANE:geo:-0.102397,51.465625
END:VEVENT
BEGIN:VEVENT
DTSTART;TZID=UTC:20200826T080000
DTEND;TZID=UTC:20200826T170000
DTSTAMP:20260423T114911
CREATED:20200725T205440Z
LAST-MODIFIED:20200824T194524Z
UID:10504-1598428800-1598461200@www.sunshineiarts.co.uk
SUMMARY:…Dance of Jouvert… AFRICAN spirits   We de people\, of this EARTH 2018
DESCRIPTION:  \nGearing up for Notting Hill Carnival 2018 !!! \n  \nSunshine International Art is giving Carnival Art a platform to highlight humanity’s destruction of the planet. Our Mas Band in 2018 is looking at how our Art can move people to  Rejuvenate\, Reincarnate\, Rebirth our glorious planet. \nhttps://www.sunshineiarts.co.uk/sunshine-update-gearing-up-for-notting-hill-carnival/
URL:https://www.sunshineiarts.co.uk/event/dance-of-jouvert-african-spirits-we-de-people-of-this-earth-2018/
LOCATION:CAFE\, STUDIO 5 209A\, COLDHABOUR LANE\, LONDON\, SW9 8RU\, United Kingdom
GEO:51.465625;-0.102397
X-APPLE-STRUCTURED-LOCATION;VALUE=URI;X-ADDRESS=CAFE STUDIO 5 209A COLDHABOUR LANE LONDON SW9 8RU United Kingdom;X-APPLE-RADIUS=500;X-TITLE=STUDIO 5 209A\, COLDHABOUR LANE:geo:-0.102397,51.465625
END:VEVENT
BEGIN:VEVENT
DTSTART;TZID=UTC:20200826T140000
DTEND;TZID=UTC:20200826T170000
DTSTAMP:20260423T114911
CREATED:20200726T104424Z
LAST-MODIFIED:20200824T194547Z
UID:10521-1598450400-1598461200@www.sunshineiarts.co.uk
SUMMARY:NHC 2018 We On De Road !
DESCRIPTION:NHC 2018 We On De Road ! \nhttps://www.youtube.com/watch?v=820XT_yce_0
URL:https://www.sunshineiarts.co.uk/event/nhc-2018-we-on-de-road/
LOCATION:CAFE\, STUDIO 5 209A\, COLDHABOUR LANE\, LONDON\, SW9 8RU\, United Kingdom
CATEGORIES:Events
GEO:51.465625;-0.102397
X-APPLE-STRUCTURED-LOCATION;VALUE=URI;X-ADDRESS=CAFE STUDIO 5 209A COLDHABOUR LANE LONDON SW9 8RU United Kingdom;X-APPLE-RADIUS=500;X-TITLE=STUDIO 5 209A\, COLDHABOUR LANE:geo:-0.102397,51.465625
END:VEVENT
BEGIN:VEVENT
DTSTART;TZID=UTC:20200827T080000
DTEND;TZID=UTC:20200827T170000
DTSTAMP:20260423T114911
CREATED:20200725T210035Z
LAST-MODIFIED:20200824T194651Z
UID:10510-1598515200-1598547600@www.sunshineiarts.co.uk
SUMMARY:MASCYCLE ….Ah maS aH cOlour…a drop in the ocean… A SHOWCASE OF UPCYCLED COSTUMES FROM 2007-2018
DESCRIPTION:MASCYCLE\n….Ah maS aH cOlour…a drop in the ocean…\nA SHOWCASE OF UPCYCLED COSTUMES\nFROM 2007-2018\n  \n 
URL:https://www.sunshineiarts.co.uk/event/mascycle-ah-mas-ah-coloura-drop-in-the-ocean-a-showcase-of-upcycled-costumes-from-2007-2018/
LOCATION:CAFE\, STUDIO 5 209A\, COLDHABOUR LANE\, LONDON\, SW9 8RU\, United Kingdom
CATEGORIES:Events
GEO:51.465625;-0.102397
X-APPLE-STRUCTURED-LOCATION;VALUE=URI;X-ADDRESS=CAFE STUDIO 5 209A COLDHABOUR LANE LONDON SW9 8RU United Kingdom;X-APPLE-RADIUS=500;X-TITLE=STUDIO 5 209A\, COLDHABOUR LANE:geo:-0.102397,51.465625
END:VEVENT
BEGIN:VEVENT
DTSTART;TZID=UTC:20200828T080000
DTEND;TZID=UTC:20200828T170000
DTSTAMP:20260423T114912
CREATED:20200725T205637Z
LAST-MODIFIED:20200725T205637Z
UID:10506-1598601600-1598634000@www.sunshineiarts.co.uk
SUMMARY:Artist and the people - #comingsoon #siasummer20nhc#siafamilymystory DE Crew S.i.A
DESCRIPTION:
URL:https://www.sunshineiarts.co.uk/event/artist-and-the-people-comingsoon-siasummer20nhcsiafamilymystory-de-crew-s-i-a/
LOCATION:CAFE\, STUDIO 5 209A\, COLDHABOUR LANE\, LONDON\, SW9 8RU\, United Kingdom
CATEGORIES:Events
GEO:51.465625;-0.102397
X-APPLE-STRUCTURED-LOCATION;VALUE=URI;X-ADDRESS=CAFE STUDIO 5 209A COLDHABOUR LANE LONDON SW9 8RU United Kingdom;X-APPLE-RADIUS=500;X-TITLE=STUDIO 5 209A\, COLDHABOUR LANE:geo:-0.102397,51.465625
END:VEVENT
BEGIN:VEVENT
DTSTART;TZID=UTC:20200829T080000
DTEND;TZID=UTC:20200829T170000
DTSTAMP:20260423T114912
CREATED:20200725T205722Z
LAST-MODIFIED:20200725T205722Z
UID:10508-1598688000-1598720400@www.sunshineiarts.co.uk
SUMMARY:Mas Band on DE Road 
DESCRIPTION:Mas Band on DE Road  \nThere are lots of elements that make up a mas band its not only artist and designers  \n#comingsoon #siasummer20nhc#siafamilymystory
URL:https://www.sunshineiarts.co.uk/event/mas-band-on-de-road/
LOCATION:CAFE\, STUDIO 5 209A\, COLDHABOUR LANE\, LONDON\, SW9 8RU\, United Kingdom
CATEGORIES:Events
GEO:51.465625;-0.102397
X-APPLE-STRUCTURED-LOCATION;VALUE=URI;X-ADDRESS=CAFE STUDIO 5 209A COLDHABOUR LANE LONDON SW9 8RU United Kingdom;X-APPLE-RADIUS=500;X-TITLE=STUDIO 5 209A\, COLDHABOUR LANE:geo:-0.102397,51.465625
END:VEVENT
BEGIN:VEVENT
DTSTART;TZID=UTC:20200830T080000
DTEND;TZID=UTC:20200830T170000
DTSTAMP:20260423T114912
CREATED:20200725T211417Z
LAST-MODIFIED:20231108T140817Z
UID:10512-1598774400-1598806800@www.sunshineiarts.co.uk
SUMMARY:The future Family Day NHC
DESCRIPTION:
URL:https://www.sunshineiarts.co.uk/event/the-future-family-day-nhc/
LOCATION:CAFE\, STUDIO 5 209A\, COLDHABOUR LANE\, LONDON\, SW9 8RU\, United Kingdom
GEO:51.465625;-0.102397
X-APPLE-STRUCTURED-LOCATION;VALUE=URI;X-ADDRESS=CAFE STUDIO 5 209A COLDHABOUR LANE LONDON SW9 8RU United Kingdom;X-APPLE-RADIUS=500;X-TITLE=STUDIO 5 209A\, COLDHABOUR LANE:geo:-0.102397,51.465625
END:VEVENT
END:VCALENDAR